BEGIN:VCALENDAR
VERSION:2.0
PRODID:-//Sally Perry - ECPv6.1.2.2//NONSGML v1.0//EN
CALSCALE:GREGORIAN
METHOD:PUBLISH
X-WR-CALNAME:Sally Perry
X-ORIGINAL-URL:https://revsallyperry.net
X-WR-CALDESC:Events for Sally Perry
REFRESH-INTERVAL;VALUE=DURATION:PT1H
X-Robots-Tag:noindex
X-PUBLISHED-TTL:PT1H
BEGIN:VTIMEZONE
TZID:UTC
BEGIN:STANDARD
TZOFFSETFROM:+0000
TZOFFSETTO:+0000
TZNAME:UTC
DTSTART:20170101T000000
END:STANDARD
END:VTIMEZONE
BEGIN:VEVENT
DTSTART;TZID=UTC:20171028T080000
DTEND;TZID=UTC:20171029T170000
DTSTAMP:20260424T123412
CREATED:20170906T174934Z
LAST-MODIFIED:20170906T182159Z
UID:2277-1509177600-1509296400@revsallyperry.net
SUMMARY:Initiating New Beginnings
DESCRIPTION:Greetings all\, \nI am so pleased to share this very special opportunity!  With all that has occurred recently\, this “Initiating New Beginnings” expanded workshop (teachings\, sweat lodge\, sunrise and sacrifice giveaway ceremonies) really feels like what I need and perhaps speaks to you as well. \nWe will be on very special\, beautiful land\, Naa-Meh-Neh\, in Rice Virginia. It has been the site of spiritual ceremony\, dances\, and sweats for many years.  Rev. Sally Perry (Swami Satchidanand) teachings were taught to her by Beautiful Painted Arrow (Joseph Rael) and the Havasupai tribe at the bottom of the Grand Canyon and are based on the spiritual Medicine Wheel.  On Sunday\, the spiritual caretakers of the land\, Joan Kruzicki and Angela Whittaker\, will offer a Sunrise ceremony in the tradition of Beautiful Painted Arrow and Rev. Sally Perry will close with a sacrifice giveaway ceremony. \nPlease see attached flyer for more details. (If you received this flyer already -please note the date change!) \nIn Peace\,\nMiriam \n\nSaturday\, Oct 28 \n12:00 p.m. arrivals\n1:00-5:00 p.m. Teachings\n5:00 p.m. Sweat Lodge\nPot-luck meal  \nSunday\, Oct. 29 \nSunrise Ceremony\nBreakfast\nClosing Giveaway Ceremony with Rev. Sally Perry   \nNaa-Meh-Neh\, Rice\, VA (Near Farmville) On-site guest house (5 dormitory-style beds\, bathroom\, shower) and camping spaces. Approx. 1 ½ hours from Charlottesville and 1 hour\, 15 min from Richmond. \nRegistration $230 includes all teachings and ceremonies*\, breakfast\, camping on-site & facilities (kitchen\, bathroom\, shower.) Spaces are limited. First come\, first served for dormitory beds. $50 nonrefundable to reserve your space. It is possible to come for Saturday only. \nTo Register:  Mail full name\, phone no.\, email and check written out to APD (Akhand Param Dham).\nMail to: Miriam Rushfinn\, 4306 Burton Road\, North Garden\, VA  22959. You will receive the directions & additional information after registration. \nLodging Alternatives\n-Hampton Inn\, Farmville\, (15 minutes away) 434.392.8826\n-Sandy River Outdoor Adventures & Retreat Center\, Rice\, VA. Cabins\, tipi\, zipline\, adventure park. 434.392.7275 \nQuestions?\n Miriam Rushfinn\, 434.977.8686\, mrcvlle@gmail.com\n Rev. Sally Perry\, 804.749.4679 sallybperry@aol.com
URL:https://revsallyperry.net/event/initiating-new-beginnings/
LOCATION:Rice\, VA\, United States
END:VEVENT
END:VCALENDAR